BEGIN:VCALENDAR
VERSION:2.0
PRODID:-//noclubs.com//EN
CALSCALE:GREGORIAN
BEGIN:VEVENT
UID:event-1211-69ecb12425a15@noclubs.com
DTSTAMP:20260425T121844Z
DTSTART;TZID=America/New_York:20260428T143000
DTEND;TZID=America/New_York:20260428T153000
SUMMARY:The Maine: I LOVE YOU BUT&#8230\; I CHOSE THE MAINE
LOCATION:Jannus Live\, 200 1st Ave N STE 206\, St. Petersburg\, FL 33701 United States
DESCRIPTION:The Maine: I LOVE YOU BUT&#8230\; I CHOSE THE MAINE\, Support:
 Nightly\, Grayscale\, Moody Joody\, Date & Time: 6:30 PM\, April 28\,
 2026\, Door Opening Time: 5:30 PM\, Ticket URL:
 https://www.ticketmaster.com/event/0D0063833EFEB235
END:VEVENT
END:VCALENDAR
