BEGIN:VCALENDAR
VERSION:2.0
PRODID:-//noclubs.com//EN
CALSCALE:GREGORIAN
BEGIN:VEVENT
UID:event-1213-69ece0af04249@noclubs.com
DTSTAMP:20260425T154135Z
DTSTART;TZID=America/New_York:20260625T160000
DTEND;TZID=America/New_York:20260625T170000
SUMMARY:Thievery Corporation
LOCATION:Jannus Live\, 200 1st Ave N STE 206\, St. Petersburg\, FL 33701 United States
DESCRIPTION:Thievery Corporation\, Support: City of the Sun\, Date & Time: 8:00
 PM\, June 25\, 2026\, Door Opening Time: 7:00 PM\, Ticket URL:
 https://www.ticketmaster.com/event/0D00646598857BDC
END:VEVENT
END:VCALENDAR
